BEGIN:VCALENDAR
VERSION:2.0
PRODID:-//Community Sport Councils Ontario - ECPv6.15.12.2//NONSGML v1.0//EN
CALSCALE:GREGORIAN
METHOD:PUBLISH
X-ORIGINAL-URL:https://communitysportcouncils.com
X-WR-CALDESC:Events for Community Sport Councils Ontario
REFRESH-INTERVAL;VALUE=DURATION:PT1H
X-Robots-Tag:noindex
X-PUBLISHED-TTL:PT1H
BEGIN:VTIMEZONE
TZID:UTC
BEGIN:STANDARD
TZOFFSETFROM:+0000
TZOFFSETTO:+0000
TZNAME:UTC
DTSTART:20180101T000000
END:STANDARD
END:VTIMEZONE
BEGIN:VEVENT
DTSTART;VALUE=DATE:20191117
DTEND;VALUE=DATE:20191120
DTSTAMP:20260426T040321
CREATED:20191014T173342Z
LAST-MODIFIED:20191014T173342Z
UID:2743-1573948800-1574207999@communitysportcouncils.com
SUMMARY:12th Prime Time Sports Conference-Toronto Nov 17-19
DESCRIPTION:
URL:https://communitysportcouncils.com/event/12th-prime-time-sports-conference-toronto-nov-17-19/
END:VEVENT
END:VCALENDAR