BEGIN:VCALENDAR
VERSION:2.0
PRODID:-//Community Sport Councils Ontario - ECPv6.15.12.2//NONSGML v1.0//EN
CALSCALE:GREGORIAN
METHOD:PUBLISH
X-ORIGINAL-URL:https://communitysportcouncils.com
X-WR-CALDESC:Events for Community Sport Councils Ontario
REFRESH-INTERVAL;VALUE=DURATION:PT1H
X-Robots-Tag:noindex
X-PUBLISHED-TTL:PT1H
BEGIN:VTIMEZONE
TZID:UTC
BEGIN:STANDARD
TZOFFSETFROM:+0000
TZOFFSETTO:+0000
TZNAME:UTC
DTSTART:20190101T000000
END:STANDARD
END:VTIMEZONE
BEGIN:VEVENT
DTSTART;TZID=UTC:20200706T080000
DTEND;TZID=UTC:20210808T170000
DTSTAMP:20260422T102016
CREATED:20210806T171925Z
LAST-MODIFIED:20200706T211939Z
UID:2771-1594022400-1628442000@communitysportcouncils.com
SUMMARY:Ontario 55+ Summer Games\, Perterborough
DESCRIPTION:Postponed due to COVID-19
URL:https://communitysportcouncils.com/event/ontario-55-summer-games-perterborough/
END:VEVENT
BEGIN:VEVENT
DTSTART;TZID=UTC:20210617T190000
DTEND;TZID=UTC:20210617T200000
DTSTAMP:20260422T102016
CREATED:20210521T151113Z
LAST-MODIFIED:20210612T204946Z
UID:2972-1623956400-1623960000@communitysportcouncils.com
SUMMARY:Community Sport Council General Virtual Meeting\, Thurs June 17 at 7 pm
DESCRIPTION:CSCO is committed to supporting its network of Community Sport Councils & Accessible Sport Councils and other community based organizations (Community Hall of Fames\, Sport Advisory Committees\, Award Committees\, Volunteer Committees) by offering regular virtual meetings for all community based organizations; \nIts next virtual event will be on Thurs\, June 17 at 7 pm. A final agenda of the topics to be presented and discussed are as follows; \n\nWelcome Board/Community Sport Councils & Accessible Sport Councils-Kevin Arnsdorf\, Chair CSCO\nSport Aurora local sport Advocacy presentation-Ron Weese\, President Sport Aurora\nCSCO Membership update-Presentation-new membership structure-Mark McGinley-CSCO Board\nNational Sport Trust Fund-Ontario-CSCO Fundraising campaigns-Sustainability Fund & Community Sport Athletes Mentorship Fund-Kevin Arnsdorf\, CSCO Chair\nSpace Coalition brief-Heather Mitchell\, Space Coalition\n\nJoin us for an hour of presentations and discussions which could impact your community in Ontario.
URL:https://communitysportcouncils.com/event/community-sport-council-general-virtual-meeting-thurs-june-17-at-7-pm/
END:VEVENT
END:VCALENDAR