BEGIN:VCALENDAR
VERSION:2.0
PRODID:-//Community Sport Councils Ontario - ECPv6.15.12.2//NONSGML v1.0//EN
CALSCALE:GREGORIAN
METHOD:PUBLISH
X-ORIGINAL-URL:https://communitysportcouncils.com
X-WR-CALDESC:Events for Community Sport Councils Ontario
REFRESH-INTERVAL;VALUE=DURATION:PT1H
X-Robots-Tag:noindex
X-PUBLISHED-TTL:PT1H
BEGIN:VTIMEZONE
TZID:UTC
BEGIN:STANDARD
TZOFFSETFROM:+0000
TZOFFSETTO:+0000
TZNAME:UTC
DTSTART:20200101T000000
END:STANDARD
END:VTIMEZONE
BEGIN:VEVENT
DTSTART;VALUE=DATE:20210824
DTEND;VALUE=DATE:20210906
DTSTAMP:20260421T204129
CREATED:20210715T132702Z
LAST-MODIFIED:20210715T132833Z
UID:3014-1629763200-1630886399@communitysportcouncils.com
SUMMARY:Paralympic games in Tokyo\, August 24 - Sept 5
DESCRIPTION:CSCO will follow the team as they compete for gold in these games ! Once the Canadian Paralympic Committee announces team we will identify all Ontario athletes and give them the recognition they deserve !! Stay tuned for further updates. \nMore information can be found on Tokyo’s website at;  https://olympics.com/tokyo-2020/en/paralympics/ \n 
URL:https://communitysportcouncils.com/event/paralympic-games-in-tokyo-august-24-sept-8/
END:VEVENT
END:VCALENDAR