BEGIN:VCALENDAR
VERSION:2.0
PRODID:-//Community Sport Councils Ontario - ECPv6.15.12.2//NONSGML v1.0//EN
CALSCALE:GREGORIAN
METHOD:PUBLISH
X-ORIGINAL-URL:https://communitysportcouncils.com
X-WR-CALDESC:Events for Community Sport Councils Ontario
REFRESH-INTERVAL;VALUE=DURATION:PT1H
X-Robots-Tag:noindex
X-PUBLISHED-TTL:PT1H
BEGIN:VTIMEZONE
TZID:UTC
BEGIN:STANDARD
TZOFFSETFROM:+0000
TZOFFSETTO:+0000
TZNAME:UTC
DTSTART:20200101T000000
END:STANDARD
END:VTIMEZONE
BEGIN:VEVENT
DTSTART;VALUE=DATE:20211026
DTEND;VALUE=DATE:20211028
DTSTAMP:20260421T135342
CREATED:20210916T163435Z
LAST-MODIFIED:20210916T163804Z
UID:3021-1635206400-1635379199@communitysportcouncils.com
SUMMARY:The Ontario Physical Literacy Virtual Summit\, Oct 26-27 !
DESCRIPTION:This years Summit keynote speakers are; \n\nKrista Duchene\, Hamilton’s own “Marathon Mom”\, former Olympian and Coach\nKwame Osei\, former CFL player\, Amazing Race Canada finalist\, Author\, Physical\nEducation teacher & football coach\n\nFive streams are offered; \n\nEducation\nAdministration\, Recreation Leaders\, Research and Public health\nCommunity Recreation\, Coaches & Parents\nAccessibility & Disability\nOlder Adults\n\nInterested ? \nLearn more about OPLS & register here: https://www.ontariophysicalliteracysummit.org/ \nHave a question ? Contact OPLS at oplshamilton@gmail.com \n 
URL:https://communitysportcouncils.com/event/the-ontario-physical-literacy-virtual-summit-oct-26-27/
END:VEVENT
END:VCALENDAR