BEGIN:VCALENDAR
VERSION:2.0
PRODID:-//Community Sport Councils Ontario - ECPv6.15.12.2//NONSGML v1.0//EN
CALSCALE:GREGORIAN
METHOD:PUBLISH
X-ORIGINAL-URL:https://communitysportcouncils.com
X-WR-CALDESC:Events for Community Sport Councils Ontario
REFRESH-INTERVAL;VALUE=DURATION:PT1H
X-Robots-Tag:noindex
X-PUBLISHED-TTL:PT1H
BEGIN:VTIMEZONE
TZID:UTC
BEGIN:STANDARD
TZOFFSETFROM:+0000
TZOFFSETTO:+0000
TZNAME:UTC
DTSTART:20200101T000000
END:STANDARD
END:VTIMEZONE
BEGIN:VEVENT
DTSTART;TZID=UTC:20211208T000000
DTEND;TZID=UTC:20211212T235900
DTSTAMP:20260420T151522
CREATED:20210916T165028Z
LAST-MODIFIED:20210916T165158Z
UID:3025-1638921600-1639353540@communitysportcouncils.com
SUMMARY:108 Grey Cup Festival\, Hamilton Dec 8-12 !
DESCRIPTION:The 108 Grey Cup Festival is coming Dec 8-12 with the official game on Sunday\, Dec 12 in Hamilton at Tim Hortons Field ! \nNeed more information ?  \nhttps://www.greycupfestival.ca/2020/11/21/ticats-unveil-108th-grey-cup-2021-grey-cup-festival-brands/ (Website) \nSee Grey Cup and Grey Cup Festival Brand Unveil; https://youtu.be/t7Ljqo7suHk (YouTube) \n 
URL:https://communitysportcouncils.com/event/108-grey-cup-festival-hamilton-dec-8-12/
END:VEVENT
END:VCALENDAR