BEGIN:VCALENDAR
VERSION:2.0
PRODID:-//Community Sport Councils Ontario - ECPv6.15.12.2//NONSGML v1.0//EN
CALSCALE:GREGORIAN
METHOD:PUBLISH
X-WR-CALNAME:Community Sport Councils Ontario
X-ORIGINAL-URL:https://communitysportcouncils.com
X-WR-CALDESC:Events for Community Sport Councils Ontario
REFRESH-INTERVAL;VALUE=DURATION:PT1H
X-Robots-Tag:noindex
X-PUBLISHED-TTL:PT1H
BEGIN:VTIMEZONE
TZID:UTC
BEGIN:STANDARD
TZOFFSETFROM:+0000
TZOFFSETTO:+0000
TZNAME:UTC
DTSTART:20210101T000000
END:STANDARD
END:VTIMEZONE
BEGIN:VEVENT
DTSTART;TZID=UTC:20220914T110000
DTEND;TZID=UTC:20220914T133000
DTSTAMP:20260419T180302
CREATED:20220823T175006Z
LAST-MODIFIED:20220823T175129Z
UID:3057-1663153200-1663162200@communitysportcouncils.com
SUMMARY:Ontario Sport Network Free Grant Workshop (In person)\, Sept 14 in Hamilton
DESCRIPTION:The Ontario Sport Network offers an in person free grant workshop on Wed\, Sept 14 in Hamilton. \nFollow the link for details: OSN Workshop – All About Grants Tickets\, Wed\, 14 Sep 2022 at 11:00 AM | Eventbrite \n  \n 
URL:https://communitysportcouncils.com/event/ontario-sport-network-free-grant-workshop-in-person-sept-14-in-hamilton/
END:VEVENT
END:VCALENDAR