BEGIN:VCALENDAR
VERSION:2.0
PRODID:-//Community Sport Councils Ontario - ECPv6.15.12.2//NONSGML v1.0//EN
CALSCALE:GREGORIAN
METHOD:PUBLISH
X-ORIGINAL-URL:https://communitysportcouncils.com
X-WR-CALDESC:Events for Community Sport Councils Ontario
REFRESH-INTERVAL;VALUE=DURATION:PT1H
X-Robots-Tag:noindex
X-PUBLISHED-TTL:PT1H
BEGIN:VTIMEZONE
TZID:UTC
BEGIN:STANDARD
TZOFFSETFROM:+0000
TZOFFSETTO:+0000
TZNAME:UTC
DTSTART:20190101T000000
END:STANDARD
END:VTIMEZONE
BEGIN:VEVENT
DTSTART;TZID=UTC:20200227T080000
DTEND;TZID=UTC:20200301T170000
DTSTAMP:20260425T132600
CREATED:20210404T232344Z
LAST-MODIFIED:20200706T210748Z
UID:2753-1582790400-1583082000@communitysportcouncils.com
SUMMARY:2020 Ontario Winter Games\, Orillia\, Feb 27-March 1
DESCRIPTION:
URL:https://communitysportcouncils.com/event/2020-ontario-winter-games-orillia-feb-27-march-1/
END:VEVENT
END:VCALENDAR