BEGIN:VCALENDAR
VERSION:2.0
PRODID:-//Community Sport Councils Ontario - ECPv6.15.12.2//NONSGML v1.0//EN
CALSCALE:GREGORIAN
METHOD:PUBLISH
X-ORIGINAL-URL:https://communitysportcouncils.com
X-WR-CALDESC:Events for Community Sport Councils Ontario
REFRESH-INTERVAL;VALUE=DURATION:PT1H
X-Robots-Tag:noindex
X-PUBLISHED-TTL:PT1H
BEGIN:VTIMEZONE
TZID:UTC
BEGIN:STANDARD
TZOFFSETFROM:+0000
TZOFFSETTO:+0000
TZNAME:UTC
DTSTART:20190101T000000
END:STANDARD
END:VTIMEZONE
BEGIN:VEVENT
DTSTART;TZID=UTC:20200706T080000
DTEND;TZID=UTC:20210808T170000
DTSTAMP:20260423T091608
CREATED:20210806T171925Z
LAST-MODIFIED:20200706T211939Z
UID:2771-1594022400-1628442000@communitysportcouncils.com
SUMMARY:Ontario 55+ Summer Games\, Perterborough
DESCRIPTION:Postponed due to COVID-19
URL:https://communitysportcouncils.com/event/ontario-55-summer-games-perterborough/
END:VEVENT
BEGIN:VEVENT
DTSTART;TZID=UTC:20200706T080000
DTEND;TZID=UTC:20210403T170000
DTSTAMP:20260423T091608
CREATED:20211206T172221Z
LAST-MODIFIED:20200706T211541Z
UID:2777-1594022400-1617469200@communitysportcouncils.com
SUMMARY:2021 Ontario Parasport Games\, Mississauga
DESCRIPTION:
URL:https://communitysportcouncils.com/event/2021-ontario-parasport-games-mississauga/
END:VEVENT
BEGIN:VEVENT
DTSTART;TZID=UTC:20210303T183000
DTEND;TZID=UTC:20210303T200000
DTSTAMP:20260423T091608
CREATED:20210217T142419Z
LAST-MODIFIED:20210217T142419Z
UID:2885-1614796200-1614801600@communitysportcouncils.com
SUMMARY:Sport Hamilton AGM\, March 3 6:30 pm
DESCRIPTION:
URL:https://communitysportcouncils.com/event/sport-hamilton-agm-march-3-630-pm/
END:VEVENT
BEGIN:VEVENT
DTSTART;TZID=UTC:20210307T080000
DTEND;TZID=UTC:20210307T170000
DTSTAMP:20260423T091608
CREATED:20210406T172147Z
LAST-MODIFIED:20200706T212157Z
UID:2775-1615104000-1615136400@communitysportcouncils.com
SUMMARY:2021 Ontario 55+ Winter Games\, Brantford and the County of Brandt
DESCRIPTION:
URL:https://communitysportcouncils.com/event/2021-ontario-55-winter-games-brantford-and-the-county-of-brandt/
END:VEVENT
BEGIN:VEVENT
DTSTART;VALUE=DATE:20210324
DTEND;VALUE=DATE:20210401
DTSTAMP:20260423T091608
CREATED:20210324T135245Z
LAST-MODIFIED:20210324T185802Z
UID:2915-1616544000-1617235199@communitysportcouncils.com
SUMMARY:The Free Ontario Coaches Conference starts today March 24 and runs until March 31 !
DESCRIPTION:This free virtual event has a theme of ‘Shaping tomorrow today’ which runs from March 24-31 ! \nCSCO is excited for all the webinars\, guest speakers and resources ! \nSee schedule here; http://ow.ly/qmma50E7ro2 \n \n 
URL:https://communitysportcouncils.com/event/the-free-ontario-coaches-conference-starts-today-march-24-and-runs-until-march-31/
END:VEVENT
END:VCALENDAR