BEGIN:VCALENDAR
VERSION:2.0
PRODID:-//Community Sport Councils Ontario - ECPv6.15.12.2//NONSGML v1.0//EN
CALSCALE:GREGORIAN
METHOD:PUBLISH
X-ORIGINAL-URL:https://communitysportcouncils.com
X-WR-CALDESC:Events for Community Sport Councils Ontario
REFRESH-INTERVAL;VALUE=DURATION:PT1H
X-Robots-Tag:noindex
X-PUBLISHED-TTL:PT1H
BEGIN:VTIMEZONE
TZID:UTC
BEGIN:STANDARD
TZOFFSETFROM:+0000
TZOFFSETTO:+0000
TZNAME:UTC
DTSTART:20200101T000000
END:STANDARD
END:VTIMEZONE
BEGIN:VEVENT
DTSTART;VALUE=DATE:20211103
DTEND;VALUE=DATE:20211106
DTSTAMP:20260421T055016
CREATED:20211014T120024Z
LAST-MODIFIED:20211014T190243Z
UID:3042-1635897600-1636156799@communitysportcouncils.com
SUMMARY:Petro-Canada Sport Leadership Conference\, Nov 3-5
DESCRIPTION:The Coaching Association of Canada is pleased to partner with Petro-Canada to host this virtual conference on Nov 3-5.    \nFor information go to: https://coach.ca/petro-canada-sport-leadership-sportif-conference \nSee schedule here: https://coach.ca/sites/default/files/2021-10/SLS21_Schedule_English.pdf \nCost: $90 per participant \nSession topics include: \n\nTactical decision making for coaches\nStrategies to increase indigenous participation in sport\nCreating a growth mindset with your sport org or team\nDeveloping inclusive spaces for para athletes
URL:https://communitysportcouncils.com/event/petro-canada-sport-leadership-conference-nov-3-5/
END:VEVENT
END:VCALENDAR