BEGIN:VCALENDAR
VERSION:2.0
PRODID:-//Community Sport Councils Ontario - ECPv6.15.12.2//NONSGML v1.0//EN
CALSCALE:GREGORIAN
METHOD:PUBLISH
X-ORIGINAL-URL:https://communitysportcouncils.com
X-WR-CALDESC:Events for Community Sport Councils Ontario
REFRESH-INTERVAL;VALUE=DURATION:PT1H
X-Robots-Tag:noindex
X-PUBLISHED-TTL:PT1H
BEGIN:VTIMEZONE
TZID:UTC
BEGIN:STANDARD
TZOFFSETFROM:+0000
TZOFFSETTO:+0000
TZNAME:UTC
DTSTART:20210101T000000
END:STANDARD
END:VTIMEZONE
BEGIN:VEVENT
DTSTART;TZID=UTC:20220729T080000
DTEND;TZID=UTC:20220801T170000
DTSTAMP:20260419T193915
CREATED:20201203T182446Z
LAST-MODIFIED:20210715T133135Z
UID:2822-1659081600-1659373200@communitysportcouncils.com
SUMMARY:London 2022 Ontario Summer Games\, July 29-Aug 1 postponed till 2024 !
DESCRIPTION:The 2020 Ontario Summer Games have been rescheduled twice due to COVID-19 and will take place in London from to 2024.  \nNeed more info ? Contact London games office at info@london2020.ca
URL:https://communitysportcouncils.com/event/london-2021-ontario-summer-games-july-30-aug-2/
END:VEVENT
BEGIN:VEVENT
DTSTART;TZID=UTC:20220806T080000
DTEND;TZID=UTC:20220821T170000
DTSTAMP:20260419T193915
CREATED:20210103T003216Z
LAST-MODIFIED:20210123T173918Z
UID:2844-1659772800-1661101200@communitysportcouncils.com
SUMMARY:Niagara\, 2022 Canada Summer Games\, Aug 6-21\, 2022
DESCRIPTION:For more information go to: https://niagara2022games.ca/ \n 
URL:https://communitysportcouncils.com/event/niagara-2022-canada-summer-games-aug-6-21-2022/
END:VEVENT
END:VCALENDAR